BEGIN:VCALENDAR
VERSION:2.0
PRODID:-//RIGHTHERE//CALENDARIZE IT V3.2//EN
BEGIN:VEVENT
UID:9448-events@vfgpa.org
DTSTART;VALUE=DATE:20220628
DTEND;VALUE=DATE:20220628
DTSTAMP:20220330T214259Z
SUMMARY:Rimfire Nation Day!    Rifle-Pistol Range\;   8am to 5pm. See Detai
 ls
URL:https://vfgpa.org/events/rimfire-nation-day-rifle-pistol-range-8am-to-5
 pm-see-details/
END:VEVENT
END:VCALENDAR