BEGIN:VCALENDAR
VERSION:2.0
PRODID:-//RIGHTHERE//CALENDARIZE IT V3.2//EN
BEGIN:VEVENT
UID:9162-events@vfgpa.org
DTSTART;VALUE=DATE:20260704
DTEND;VALUE=DATE:20260704
DTSTAMP:20220110T235502Z
SUMMARY:Canadian Rimfire Precision Match!   RP\;  9am to 5pm
RDATE;VALUE=PERIOD:20230916T000000/20230916T000000,20260321T000000/20260321
 T000000,20260912T000000/20260912T000000
URL:https://vfgpa.org/events/canadian-rimfire-precision-match-rp-8am-to-6pm
 /
LOCATION:Rifle/Pistol Range
END:VEVENT
END:VCALENDAR