BEGIN:VCALENDAR
VERSION:2.0
PRODID:-//RIGHTHERE//CALENDARIZE IT V3.2//EN
BEGIN:VEVENT
UID:8443-events@vfgpa.org
DTSTART;VALUE=DATE:20210807
DTEND;VALUE=DATE:20210807
DTSTAMP:20210717T033242Z
SUMMARY:RP Closed 12-NOON to 5pm\;  Frontier Shootists Long-Range HQ Compet
 ition
URL:https://vfgpa.org/events/rp-closed-12-noon-to-5pm-frontier-shootists-lo
 ng-range-hq-competition/
END:VEVENT
END:VCALENDAR