BEGIN:VCALENDAR
VERSION:2.0
PRODID:-//RIGHTHERE//CALENDARIZE IT V3.2//EN
BEGIN:VEVENT
UID:7824-events@vfgpa.org
DTSTART:20210221T180000Z
DTEND:20210221T200000Z
DTSTAMP:20210126T073759Z
SUMMARY:Range Orientation Session: Main Clubhouse 10am-Noon
URL:https://vfgpa.org/events/pre-registration-required-no-drop-ins-range-or
 ientation-session-main-clubhouse-10am-noon/
LOCATION:Clubhouse
END:VEVENT
END:VCALENDAR