BEGIN:VCALENDAR
VERSION:2.0
PRODID:-//RIGHTHERE//CALENDARIZE IT V3.2//EN
BEGIN:VEVENT
UID:13332-events@vfgpa.org
DTSTART;VALUE=DATE:20260503
DTEND;VALUE=DATE:20260503
DTSTAMP:20251215T082030Z
SUMMARY:Trap Access Program\; Pre-Registration Required:  CH 9:00 am
URL:https://vfgpa.org/events/trap-access-program-pre-registration-required-
 ch-900-am/
END:VEVENT
END:VCALENDAR