BEGIN:VCALENDAR
VERSION:2.0
PRODID:-//RIGHTHERE//CALENDARIZE IT V3.2//EN
BEGIN:VEVENT
UID:12532-events@vfgpa.org
DTSTART;VALUE=DATE:20250719
DTEND;VALUE=DATE:20250719
DTSTAMP:20241227T012449Z
SUMMARY:Vancouver Island Sporting Clays Championship!!  SG & CH closed for 
 event.
RDATE;VALUE=PERIOD:20250720T000000/20250720T000000
URL:https://vfgpa.org/events/vancouver-island-sporting-clays-championship-s
 g-ch-closed-for-event/
END:VEVENT
END:VCALENDAR