BEGIN:VCALENDAR
VERSION:2.0
PRODID:-//RIGHTHERE//CALENDARIZE IT V3.2//EN
BEGIN:VEVENT
UID:12100-events@vfgpa.org
DTSTART;VALUE=DATE:20240810
DTEND;VALUE=DATE:20240810
DTSTAMP:20240813T014028Z
SUMMARY:Archery Open House!! 12 noon to 2-pm today!
RDATE;VALUE=PERIOD:20240831T000000/20240831T000000,20240914T000000/20240914
 T000000,20240928T000000/20240928T000000
URL:https://vfgpa.org/events/archery-open-house-12-noon-to-2-pm-today/
END:VEVENT
END:VCALENDAR