BEGIN:VCALENDAR
VERSION:2.0
PRODID:-//RIGHTHERE//CALENDARIZE IT V3.2//EN
BEGIN:VEVENT
UID:11437-events@vfgpa.org
DTSTART;VALUE=DATE:20240217
DTEND;VALUE=DATE:20240217
DTSTAMP:20231228T045712Z
SUMMARY:MP Bay C Closed\;  8am to 8pm
URL:https://vfgpa.org/events/mp-bay-c-closed-8am-to-8pm/
END:VEVENT
END:VCALENDAR