BEGIN:VCALENDAR
VERSION:2.0
PRODID:-//RIGHTHERE//CALENDARIZE IT V3.2//EN
BEGIN:VEVENT
UID:11257-events@vfgpa.org
DTSTART;VALUE=DATE:20251115
DTEND;VALUE=DATE:20251115
DTSTAMP:20231006T232747Z
SUMMARY:Archery Range Closed Noon-4pm
RDATE;VALUE=PERIOD:20260110T000000/20260110T000000
URL:https://vfgpa.org/events/archery-range-closed-1pm-3pm/
END:VEVENT
END:VCALENDAR